BEGIN:VCALENDAR
VERSION:2.0
PRODID:Staatstheater Darmstadt
CALSCALE:GREGORIAN
METHOD:PUBLISH
BEGIN:VTIMEZONE
TZID:Europe/Berlin
BEGIN:STANDARD
DTSTART:20191027T010000
TZOFFSETTO:+0100
TZOFFSETFROM:+0200
RRULE:FREQ=YEARLY;BYMONTH=11;BYDAY=1SU
END:STANDARD
BEGIN:DAYLIGHT
DTSTART:20190331T010000
TZOFFSETTO:+0200
TZOFFSETFROM:+0100
RRULE:FREQ=YEARLY;BYMONTH=3;BYDAY=2SU
END:DAYLIGHT
END:VTIMEZONE
BEGIN:VEVENT
UID:termin-259
DTSTART:20190304T200000
DTEND:20190304T203000
SUMMARY:5. Sinfoniekonzert 2018/2019
DESCRIPTION:
LOCATION:Staatstheater Darmstadt / Großes Haus
URL:www.staatstheater-darmstadt.de/veranstaltungen/5-sinfoniekonzert-2
 018-2019.51/
DTSTAMP:20260424T191036Z
END:VEVENT
END:VCALENDAR
