BEGIN:VCALENDAR
VERSION:2.0
PRODID:Staatstheater Darmstadt
CALSCALE:GREGORIAN
METHOD:PUBLISH
BEGIN:VTIMEZONE
TZID:Europe/Berlin
BEGIN:STANDARD
DTSTART:20181028T010000
TZOFFSETTO:+0100
TZOFFSETFROM:+0200
RRULE:FREQ=YEARLY;BYMONTH=11;BYDAY=1SU
END:STANDARD
BEGIN:DAYLIGHT
DTSTART:20180325T010000
TZOFFSETTO:+0200
TZOFFSETFROM:+0100
RRULE:FREQ=YEARLY;BYMONTH=3;BYDAY=2SU
END:DAYLIGHT
END:VTIMEZONE
BEGIN:VEVENT
UID:termin-283
DTSTART:20181018T200000
DTEND:20181018T203000
SUMMARY:2. Kammerkonzert 2018/2019
DESCRIPTION:
LOCATION:Staatstheater Darmstadt / Kleines Haus
URL:www.staatstheater-darmstadt.de/veranstaltungen/2-kammerkonzert-201
 8-2019.75/
DTSTAMP:20260424T191022Z
END:VEVENT
END:VCALENDAR
