BEGIN:VCALENDAR
VERSION:2.0
PRODID:Staatstheater Darmstadt
CALSCALE:GREGORIAN
METHOD:PUBLISH
BEGIN:VTIMEZONE
TZID:Europe/Berlin
BEGIN:STANDARD
DTSTART:20181028T010000
TZOFFSETTO:+0100
TZOFFSETFROM:+0200
RRULE:FREQ=YEARLY;BYMONTH=11;BYDAY=1SU
END:STANDARD
BEGIN:DAYLIGHT
DTSTART:20180325T010000
TZOFFSETTO:+0200
TZOFFSETFROM:+0100
RRULE:FREQ=YEARLY;BYMONTH=3;BYDAY=2SU
END:DAYLIGHT
END:VTIMEZONE
BEGIN:VEVENT
UID:termin-296
DTSTART:20180811T200000
DTEND:20180811T203000
SUMMARY:Open-Air-Konzert zur Spielzeiteröffnung
DESCRIPTION:
LOCATION:Staatstheater Darmstadt / Georg-Büchner-Platz
URL:www.staatstheater-darmstadt.de/veranstaltungen/open-air-konzert-zu
 r-spielzeiteroeffnung.88/
DTSTAMP:20260424T191020Z
END:VEVENT
END:VCALENDAR
