BEGIN:VCALENDAR
VERSION:2.0
PRODID:Staatstheater Darmstadt
CALSCALE:GREGORIAN
METHOD:PUBLISH
BEGIN:VTIMEZONE
TZID:Europe/Berlin
BEGIN:STANDARD
DTSTART:20191027T010000
TZOFFSETTO:+0100
TZOFFSETFROM:+0200
RRULE:FREQ=YEARLY;BYMONTH=11;BYDAY=1SU
END:STANDARD
BEGIN:DAYLIGHT
DTSTART:20190331T010000
TZOFFSETTO:+0200
TZOFFSETFROM:+0100
RRULE:FREQ=YEARLY;BYMONTH=3;BYDAY=2SU
END:DAYLIGHT
END:VTIMEZONE
BEGIN:VEVENT
UID:termin-328
DTSTART:20190705T200000
DTEND:20190705T203000
SUMMARY:Open-Air-Bauhaus-Heiner-Konzert
DESCRIPTION:
LOCATION:Staatstheater Darmstadt / Georg-Büchner-Platz
URL:www.staatstheater-darmstadt.de/veranstaltungen/open-air-bauhaus-he
 iner-konzert.108/
DTSTAMP:20260424T191148Z
END:VEVENT
END:VCALENDAR
