BEGIN:VCALENDAR
VERSION:2.0
PRODID:Staatstheater Darmstadt
CALSCALE:GREGORIAN
METHOD:PUBLISH
BEGIN:VTIMEZONE
TZID:Europe/Berlin
BEGIN:STANDARD
DTSTART:20181028T010000
TZOFFSETTO:+0100
TZOFFSETFROM:+0200
RRULE:FREQ=YEARLY;BYMONTH=11;BYDAY=1SU
END:STANDARD
BEGIN:DAYLIGHT
DTSTART:20180325T010000
TZOFFSETTO:+0200
TZOFFSETFROM:+0100
RRULE:FREQ=YEARLY;BYMONTH=3;BYDAY=2SU
END:DAYLIGHT
END:VTIMEZONE
BEGIN:VEVENT
UID:termin-532
DTSTART:20180812T190000
DTEND:20180812T193000
SUMMARY:Der fröhliche Weinberg
DESCRIPTION:
LOCATION:Staatstheater Darmstadt / Foyerterrasse
URL:www.staatstheater-darmstadt.de/veranstaltungen/der-froehliche-wein
 berg.60/
DTSTAMP:20260424T191139Z
END:VEVENT
END:VCALENDAR
