BEGIN:VCALENDAR
VERSION:2.0
PRODID:Staatstheater Darmstadt
CALSCALE:GREGORIAN
METHOD:PUBLISH
BEGIN:VTIMEZONE
TZID:Europe/Berlin
BEGIN:STANDARD
DTSTART:20181028T010000
TZOFFSETTO:+0100
TZOFFSETFROM:+0200
RRULE:FREQ=YEARLY;BYMONTH=11;BYDAY=1SU
END:STANDARD
BEGIN:DAYLIGHT
DTSTART:20180325T010000
TZOFFSETTO:+0200
TZOFFSETFROM:+0100
RRULE:FREQ=YEARLY;BYMONTH=3;BYDAY=2SU
END:DAYLIGHT
END:VTIMEZONE
BEGIN:VEVENT
UID:termin-562
DTSTART:20181019T193000
DTEND:20181019T200000
SUMMARY:Die Dreigroschenoper
DESCRIPTION:
LOCATION:Staatstheater Darmstadt / Großes Haus
URL:www.staatstheater-darmstadt.de/veranstaltungen/die-dreigroschenoper.26/
DTSTAMP:20260424T191026Z
END:VEVENT
END:VCALENDAR
