BEGIN:VCALENDAR
VERSION:2.0
PRODID:Staatstheater Darmstadt
CALSCALE:GREGORIAN
METHOD:PUBLISH
BEGIN:VTIMEZONE
TZID:Europe/Berlin
BEGIN:STANDARD
DTSTART:20181028T010000
TZOFFSETTO:+0100
TZOFFSETFROM:+0200
RRULE:FREQ=YEARLY;BYMONTH=11;BYDAY=1SU
END:STANDARD
BEGIN:DAYLIGHT
DTSTART:20180325T010000
TZOFFSETTO:+0200
TZOFFSETFROM:+0100
RRULE:FREQ=YEARLY;BYMONTH=3;BYDAY=2SU
END:DAYLIGHT
END:VTIMEZONE
BEGIN:VEVENT
UID:termin-602
DTSTART:20181028T160000
DTEND:20181028T163000
SUMMARY:Saint François d'Assise
DESCRIPTION:
LOCATION:Staatstheater Darmstadt / Großes Haus
URL:www.staatstheater-darmstadt.de/veranstaltungen/saint-francois-d-as
 sise.58/
DTSTAMP:20260424T191320Z
END:VEVENT
END:VCALENDAR
