BEGIN:VCALENDAR
VERSION:2.0
PRODID:Staatstheater Darmstadt
CALSCALE:GREGORIAN
METHOD:PUBLISH
BEGIN:VTIMEZONE
TZID:Europe/Berlin
BEGIN:STANDARD
DTSTART:20181028T010000
TZOFFSETTO:+0100
TZOFFSETFROM:+0200
RRULE:FREQ=YEARLY;BYMONTH=11;BYDAY=1SU
END:STANDARD
BEGIN:DAYLIGHT
DTSTART:20180325T010000
TZOFFSETTO:+0200
TZOFFSETFROM:+0100
RRULE:FREQ=YEARLY;BYMONTH=3;BYDAY=2SU
END:DAYLIGHT
END:VTIMEZONE
BEGIN:VEVENT
UID:termin-683
DTSTART:20181103T110000
DTEND:20181103T113000
SUMMARY:2. Minikonzert 2018/2019
DESCRIPTION:
LOCATION:Staatstheater Darmstadt / Foyer Großes Haus
URL:www.staatstheater-darmstadt.de/veranstaltungen/2-minikonzert-2018-
 2019.118/
DTSTAMP:20260424T191128Z
END:VEVENT
END:VCALENDAR
