BEGIN:VCALENDAR
VERSION:2.0
PRODID:Staatstheater Darmstadt
CALSCALE:GREGORIAN
METHOD:PUBLISH
BEGIN:VTIMEZONE
TZID:Europe/Berlin
BEGIN:STANDARD
DTSTART:20191027T010000
TZOFFSETTO:+0100
TZOFFSETFROM:+0200
RRULE:FREQ=YEARLY;BYMONTH=11;BYDAY=1SU
END:STANDARD
BEGIN:DAYLIGHT
DTSTART:20190331T010000
TZOFFSETTO:+0200
TZOFFSETFROM:+0100
RRULE:FREQ=YEARLY;BYMONTH=3;BYDAY=2SU
END:DAYLIGHT
END:VTIMEZONE
BEGIN:VEVENT
UID:termin-694
DTSTART:20190203T110000
DTEND:20190203T113000
SUMMARY:Benjamin Britten: "The Young Person's Guide to the Orchestra"
DESCRIPTION:
LOCATION:Staatstheater Darmstadt / Kleines Haus
URL:www.staatstheater-darmstadt.de/veranstaltungen/benjamin-britten-th
 e-young-person-s-guide-to-the-orchestra.240/
DTSTAMP:20260424T191022Z
END:VEVENT
END:VCALENDAR
