BEGIN:VCALENDAR
VERSION:2.0
PRODID:Staatstheater Darmstadt
CALSCALE:GREGORIAN
METHOD:PUBLISH
BEGIN:VTIMEZONE
TZID:Europe/Berlin
BEGIN:STANDARD
DTSTART:20191027T010000
TZOFFSETTO:+0100
TZOFFSETFROM:+0200
RRULE:FREQ=YEARLY;BYMONTH=11;BYDAY=1SU
END:STANDARD
BEGIN:DAYLIGHT
DTSTART:20190331T010000
TZOFFSETTO:+0200
TZOFFSETFROM:+0100
RRULE:FREQ=YEARLY;BYMONTH=3;BYDAY=2SU
END:DAYLIGHT
END:VTIMEZONE
BEGIN:VEVENT
UID:termin-702
DTSTART:20190519T110000
DTEND:20190519T113000
SUMMARY:Soli fan tutti - 6. Konzert 18/19
DESCRIPTION:
LOCATION:Staatstheater Darmstadt / Foyer Großes Haus
URL:www.staatstheater-darmstadt.de/veranstaltungen/soli-fan-tutti-6-ko
 nzert-18-19.105/
DTSTAMP:20260424T191037Z
END:VEVENT
END:VCALENDAR
