BEGIN:VCALENDAR
VERSION:2.0
PRODID:Staatstheater Darmstadt
CALSCALE:GREGORIAN
METHOD:PUBLISH
BEGIN:VTIMEZONE
TZID:Europe/Berlin
BEGIN:STANDARD
DTSTART:20181028T010000
TZOFFSETTO:+0100
TZOFFSETFROM:+0200
RRULE:FREQ=YEARLY;BYMONTH=11;BYDAY=1SU
END:STANDARD
BEGIN:DAYLIGHT
DTSTART:20180325T010000
TZOFFSETTO:+0200
TZOFFSETFROM:+0100
RRULE:FREQ=YEARLY;BYMONTH=3;BYDAY=2SU
END:DAYLIGHT
END:VTIMEZONE
BEGIN:VEVENT
UID:termin-801
DTSTART:20180926T160000
DTEND:20180926T163000
SUMMARY:Aktion Theaterfoyer
DESCRIPTION:
LOCATION:Staatstheater Darmstadt / Foyer Großes Haus
URL:www.staatstheater-darmstadt.de/veranstaltungen/aktion-theaterfoyer.95/
DTSTAMP:20260424T191322Z
END:VEVENT
END:VCALENDAR
