BEGIN:VCALENDAR
VERSION:2.0
PRODID:Staatstheater Darmstadt
CALSCALE:GREGORIAN
METHOD:PUBLISH
BEGIN:VTIMEZONE
TZID:Europe/Berlin
BEGIN:STANDARD
DTSTART:20181028T010000
TZOFFSETTO:+0100
TZOFFSETFROM:+0200
RRULE:FREQ=YEARLY;BYMONTH=11;BYDAY=1SU
END:STANDARD
BEGIN:DAYLIGHT
DTSTART:20180325T010000
TZOFFSETTO:+0200
TZOFFSETFROM:+0100
RRULE:FREQ=YEARLY;BYMONTH=3;BYDAY=2SU
END:DAYLIGHT
END:VTIMEZONE
BEGIN:VEVENT
UID:termin-812
DTSTART:20180922T100000
DTEND:20180922T103000
SUMMARY:Tanzworkshop mit Martha Graham Dance Company
DESCRIPTION:
LOCATION:Staatstheater Darmstadt / Treffpunkt Foyer Kammerspiele
URL:www.staatstheater-darmstadt.de/veranstaltungen/tanzworkshop-mit-ma
 rtha-graham-dance-company.287/
DTSTAMP:20260424T191148Z
END:VEVENT
END:VCALENDAR
