BEGIN:VCALENDAR
VERSION:2.0
PRODID:Staatstheater Darmstadt
CALSCALE:GREGORIAN
METHOD:PUBLISH
BEGIN:VTIMEZONE
TZID:Europe/Berlin
BEGIN:STANDARD
DTSTART:20181028T010000
TZOFFSETTO:+0100
TZOFFSETFROM:+0200
RRULE:FREQ=YEARLY;BYMONTH=11;BYDAY=1SU
END:STANDARD
BEGIN:DAYLIGHT
DTSTART:20180325T010000
TZOFFSETTO:+0200
TZOFFSETFROM:+0100
RRULE:FREQ=YEARLY;BYMONTH=3;BYDAY=2SU
END:DAYLIGHT
END:VTIMEZONE
BEGIN:VEVENT
UID:termin-813
DTSTART:20181025T200000
DTEND:20181025T203000
SUMMARY:Markus & Markus: Zwischen den Säulen
DESCRIPTION:
LOCATION:Staatstheater Darmstadt / Kammerspiele
URL:www.staatstheater-darmstadt.de/veranstaltungen/markus-markus-zwisc
 hen-den-saeulen.288/
DTSTAMP:20260424T191027Z
END:VEVENT
END:VCALENDAR
